BEGIN:VCALENDAR
VERSION:2.0
PRODID:-//Universitat d&#039;Andorra - ECPv5.0.3.1//NONSGML v1.0//EN
CALSCALE:GREGORIAN
METHOD:PUBLISH
X-WR-CALNAME:Universitat d&#039;Andorra
X-ORIGINAL-URL:https://www.uda.ad
X-WR-CALDESC:Events for Universitat d&#039;Andorra
BEGIN:VTIMEZONE
TZID:Europe/Andorra
BEGIN:DAYLIGHT
TZOFFSETFROM:+0100
TZOFFSETTO:+0200
TZNAME:CEST
DTSTART:20210328T010000
END:DAYLIGHT
BEGIN:STANDARD
TZOFFSETFROM:+0200
TZOFFSETTO:+0100
TZNAME:CET
DTSTART:20211031T010000
END:STANDARD
END:VTIMEZONE
BEGIN:VEVENT
DTSTART;VALUE=DATE:20210930
DTEND;VALUE=DATE:20211001
DTSTAMP:20210825T213723
CREATED:20210603T062705Z
LAST-MODIFIED:20210825T154750Z
UID:40732-1632960000-1633046399@www.uda.ad
SUMMARY:Fi del termini per sol·licitar una mobilitat internacional
DESCRIPTION:Els estudiants que vulguin fer una mobilitat internacional durant el segon semestre del curs 2021-2022\, poden fer la sol·licitud al Servei de Programes Internacionals fins al pròxim 30 de setembre del 2021. \nActualment\, són 44 els convenis que la Universitat d’Andorra té signats amb universitats d’arreu del món. Els estudiants disposen de 277 places de mobilitat repartides de la següent manera: 12 a Àfrica\, 126 a Amèrica\, 20 a Àsia i 119 a Europa. \nMotius per cursar un semestre a l’estranger: \n\nPer conèixer persones de tot el món i cultures diferents a la teva\nPer créixer com a persona i ampliar la teva visió del món\nPer millorar el teu coneixement d’idiomes\nPer conèixer altres sistemes universitaris i metodologies de treball\nPer guanyar autonomia i millorar la confiança en tu mateix\nPer ampliar la teva xarxa de contactes personals i professionals\nPer preparar-te per afrontar els reptes de futur\n\nPassos a seguir per cursar un semestre a l’estranger \n\n
URL:https://www.uda.ad/esdeveniment/fi-del-termini-per-sollicitar-una-mobilitat-internacional/
LOCATION:Universitat d’Andorra\, Plaça de la Germandat\, 7\, Sant Julià de Lòria\, AD600\, Andorra
ATTACH;FMTTYPE=image/png:https://www.uda.ad/wp-content/uploads/2020/02/mobilitat.png
END:VEVENT
END:VCALENDAR