BEGIN:VCALENDAR
VERSION:2.0
PRODID:-//Universitat d&#039;Andorra - ECPv5.0.3.1//NONSGML v1.0//EN
CALSCALE:GREGORIAN
METHOD:PUBLISH
X-WR-CALNAME:Universitat d&#039;Andorra
X-ORIGINAL-URL:https://www.uda.ad
X-WR-CALDESC:Events for Universitat d&#039;Andorra
BEGIN:VTIMEZONE
TZID:Europe/Andorra
BEGIN:DAYLIGHT
TZOFFSETFROM:+0100
TZOFFSETTO:+0200
TZNAME:CEST
DTSTART:20210328T010000
END:DAYLIGHT
BEGIN:STANDARD
TZOFFSETFROM:+0200
TZOFFSETTO:+0100
TZNAME:CET
DTSTART:20211031T010000
END:STANDARD
END:VTIMEZONE
BEGIN:VEVENT
DTSTART;TZID=Europe/Andorra:20211001T110000
DTEND;TZID=Europe/Andorra:20211001T130000
DTSTAMP:20210825T213756
CREATED:20200608T092110Z
LAST-MODIFIED:20210702T092231Z
UID:29661-1633086000-1633093200@www.uda.ad
SUMMARY:Inauguració oficial del curs acadèmic 2021-22 i graduació de la promoció 2021
DESCRIPTION:
URL:https://www.uda.ad/esdeveniment/inauguracio-del-curs-2021-2022/
ATTACH;FMTTYPE=image/jpeg:https://www.uda.ad/wp-content/uploads/2019/10/inauguracio.jpg
END:VEVENT
END:VCALENDAR